BEGIN:VCALENDAR
VERSION:2.0
PRODID:-//ottawacancer.ca - ECPv6.15.20//NONSGML v1.0//EN
CALSCALE:GREGORIAN
METHOD:PUBLISH
X-ORIGINAL-URL:https://ottawacancer.ca
X-WR-CALDESC:Events for ottawacancer.ca
REFRESH-INTERVAL;VALUE=DURATION:PT1H
X-Robots-Tag:noindex
X-PUBLISHED-TTL:PT1H
BEGIN:VTIMEZONE
TZID:America/Toronto
BEGIN:DAYLIGHT
TZOFFSETFROM:-0500
TZOFFSETTO:-0400
TZNAME:EDT
DTSTART:20250309T070000
END:DAYLIGHT
BEGIN:STANDARD
TZOFFSETFROM:-0400
TZOFFSETTO:-0500
TZNAME:EST
DTSTART:20251102T060000
END:STANDARD
BEGIN:DAYLIGHT
TZOFFSETFROM:-0500
TZOFFSETTO:-0400
TZNAME:EDT
DTSTART:20260308T070000
END:DAYLIGHT
BEGIN:STANDARD
TZOFFSETFROM:-0400
TZOFFSETTO:-0500
TZNAME:EST
DTSTART:20261101T060000
END:STANDARD
BEGIN:DAYLIGHT
TZOFFSETFROM:-0500
TZOFFSETTO:-0400
TZNAME:EDT
DTSTART:20270314T070000
END:DAYLIGHT
BEGIN:STANDARD
TZOFFSETFROM:-0400
TZOFFSETTO:-0500
TZNAME:EST
DTSTART:20271107T060000
END:STANDARD
END:VTIMEZONE
BEGIN:VEVENT
DTSTART;VALUE=DATE:20260509
DTEND;VALUE=DATE:20260511
DTSTAMP:20260424T114027
CREATED:20260423T154452Z
LAST-MODIFIED:20260423T184432Z
UID:28212-1778284800-1778457599@ottawacancer.ca
SUMMARY:Lemonade Standemonium Launch at St.  Laurent Shopping Centre
DESCRIPTION:Kick off summer with something sweet! \nJoin us at St. Laurent Shopping Centre on May 9 and 10 as Lemonade Standemonium returns with a special launch event in support of the Ottawa Cancer Foundation. \nExperience the launch in action\, with lemonade stands set up throughout the mall and hosted by participating retailers. Stop by\, grab a drink\, and support a fun and meaningful initiative that helps fund free cancer support programs in our community. \nThis two-day event is a chance to see Lemonade Standemonium come to life\, connect with local businesses taking part\, and be part of a movement that brings people together for a great cause. \nWhether you’re visiting for a glass of lemonade or getting inspired to host your own stand this summer\, every visit helps make a difference. \nTo learn more or register your own stand\, visit the Lemonade Standemonium website.
URL:https://ottawacancer.ca/event/lemonade-standemonium-launch-at-st-laurent-shopping-centre/
LOCATION:St. Laurent Shopping Centre\, 1200 St. Laurent Blvd\, Ottawa\, ON\, K1K 3B8\, Canada
ATTACH;FMTTYPE=image/png:https://ottawacancer.ca/wp-content/uploads/2026/04/Sip-share-support-cancer-care.png
ORGANIZER;CN="The Ottawa Cancer Foundation":MAILTO:events@ottawacancer.ca
END:VEVENT
BEGIN:VEVENT
DTSTART;TZID=America/Toronto:20260514T000000
DTEND;TZID=America/Toronto:20260514T000000
DTSTAMP:20260424T114027
CREATED:20260422T224611Z
LAST-MODIFIED:20260422T224611Z
UID:28199-1778716800-1778716800@ottawacancer.ca
SUMMARY:Capital Pressing Comedy Vinyl Sale
DESCRIPTION:Laughs you can keep. Impact that stays local.\n\n\n\n\n\n\n\n\nThe Capital Pressing Comedy Vinyl is a limited-edition comedy album in support of The Ottawa Cancer Foundation\, featuring performances from nine standout comedians. \nThe vinyl will be recorded live at an upcoming show in May\, capturing a full night of comedy and turning it into a one-of-a-kind keepsake you can play again and again. Every order directly supports free\, community-based cancer support programs for individuals and families facing cancer in our community. \nThis is more than a comedy album. It’s a way to bring home a memorable night of laughter while making a meaningful impact in your community. \nPre-order your vinyl today! 
URL:https://ottawacancer.ca/event/capital-pressing-comedy-vinyl-sale/
LOCATION:ON
ATTACH;FMTTYPE=image/png:https://ottawacancer.ca/wp-content/uploads/2026/04/Capital-Pressings-Event.png
END:VEVENT
BEGIN:VEVENT
DTSTART;TZID=America/Toronto:20260524T110000
DTEND;TZID=America/Toronto:20260524T150000
DTSTAMP:20260424T114027
CREATED:20260422T215726Z
LAST-MODIFIED:20260422T215812Z
UID:28195-1779620400-1779634800@ottawacancer.ca
SUMMARY:Riley's 5KM Walk For Cancer Care
DESCRIPTION:Join us for the 6th Annual Riley’s Walk\, a 5 km community event in Barrhaven supporting local cancer care. \nEvery dollar you raise stays right here in our community\, helping provide free programs and support for individuals and families facing cancer through The Ottawa Cancer Foundation. \nRegister today as an individual or with a team. Set a $50 fundraising goal and start making an impact. \nBring your friends\, lace up your sneakers\, and be part of a day that brings our community together and supports those who need it most.
URL:https://ottawacancer.ca/event/rileys-5km-walk-for-cancer-care-2/
LOCATION:Moloughney Park\, 30 Wessex Road\, Ottawa\, ON\, K2J 2E7\, Canada
ATTACH;FMTTYPE=image/jpeg:https://ottawacancer.ca/wp-content/uploads/2026/01/Rileys-Walk-Icon.jpg
END:VEVENT
BEGIN:VEVENT
DTSTART;VALUE=DATE:20260601
DTEND;VALUE=DATE:20260901
DTSTAMP:20260424T114027
CREATED:20260423T153322Z
LAST-MODIFIED:20260423T154550Z
UID:28208-1780272000-1788220799@ottawacancer.ca
SUMMARY:Lemonade Standemonium
DESCRIPTION:Lemonade Standemonium is a feel-good summer initiative from The Ottawa Cancer Foundation that brings kids\, families\, businesses\, and communities together in support of local cancer care. \nThroughout the summer\, participants set up their own lemonade stands across the city\, turning a simple idea into a meaningful way to give back. Every cup sold helps fund free programs and services for individuals and families affected by cancer in our community. \nIt’s easy to get involved. Gather your friends\, pick a date\, set up your stand\, and start raising funds while spreading awareness and positivity in your neighbourhood. \nWhether you’re hosting a stand\, supporting one\, or stopping by for a glass\, Lemonade Standemonium is a chance to come together\, have fun\, and make a real impact close to home. \nTo learn more or register your stand\, visit the Lemonade Standemonium website.
URL:https://ottawacancer.ca/event/lemonade-standemonium/
LOCATION:ON
ATTACH;FMTTYPE=image/png:https://ottawacancer.ca/wp-content/uploads/2026/04/Lemonade-Standemonium.png
END:VEVENT
BEGIN:VEVENT
DTSTART;TZID=America/Toronto:20260606T100000
DTEND;TZID=America/Toronto:20260606T160000
DTSTAMP:20260424T114027
CREATED:20260422T225527Z
LAST-MODIFIED:20260422T225527Z
UID:28203-1780740000-1780761600@ottawacancer.ca
SUMMARY:Doors Open Ottawa
DESCRIPTION:On June 6\, we’re opening our doors as part of Doors Open Ottawa and inviting the community to experience the heart of what we do at The Ottawa Cancer Foundation.  \nJoin us for a free\, family-friendly day to explore the spaces\, programs\, and services that support individuals and families affected by cancer in our community. \nGuests can take part in interactive program demonstrations throughout the day\, including yoga in the park\, art therapy in the garden\, and food samples from our Simmer and Social program. Visitors are also welcome to enjoy guided tours of the Cancer Survivors Park and the Community Cancer Hub to learn more about how our programs come to life.  \nSee how community-based care\, connection\, and support come together right here in Ottawa.
URL:https://ottawacancer.ca/event/doors-open-ottawa-2/
LOCATION:The Ottawa Cancer Foundation\, 1500 Alta Vista Drive\, Ottawa\, ON\, K1G 3Y9\, Canada
ATTACH;FMTTYPE=image/png:https://ottawacancer.ca/wp-content/uploads/2026/01/OCF-House.png
ORGANIZER;CN="The Ottawa Cancer Foundation":MAILTO:events@ottawacancer.ca
END:VEVENT
END:VCALENDAR