BEGIN:VCALENDAR
VERSION:2.0
PRODID:-//ottawacancer.ca - ECPv6.15.20//NONSGML v1.0//EN
CALSCALE:GREGORIAN
METHOD:PUBLISH
X-WR-CALNAME:ottawacancer.ca
X-ORIGINAL-URL:https://ottawacancer.ca
X-WR-CALDESC:Events for ottawacancer.ca
REFRESH-INTERVAL;VALUE=DURATION:PT1H
X-Robots-Tag:noindex
X-PUBLISHED-TTL:PT1H
BEGIN:VTIMEZONE
TZID:America/Toronto
BEGIN:DAYLIGHT
TZOFFSETFROM:-0500
TZOFFSETTO:-0400
TZNAME:EDT
DTSTART:20250309T070000
END:DAYLIGHT
BEGIN:STANDARD
TZOFFSETFROM:-0400
TZOFFSETTO:-0500
TZNAME:EST
DTSTART:20251102T060000
END:STANDARD
BEGIN:DAYLIGHT
TZOFFSETFROM:-0500
TZOFFSETTO:-0400
TZNAME:EDT
DTSTART:20260308T070000
END:DAYLIGHT
BEGIN:STANDARD
TZOFFSETFROM:-0400
TZOFFSETTO:-0500
TZNAME:EST
DTSTART:20261101T060000
END:STANDARD
BEGIN:DAYLIGHT
TZOFFSETFROM:-0500
TZOFFSETTO:-0400
TZNAME:EDT
DTSTART:20270314T070000
END:DAYLIGHT
BEGIN:STANDARD
TZOFFSETFROM:-0400
TZOFFSETTO:-0500
TZNAME:EST
DTSTART:20271107T060000
END:STANDARD
END:VTIMEZONE
BEGIN:VEVENT
DTSTART;VALUE=DATE:20260601
DTEND;VALUE=DATE:20260901
DTSTAMP:20260424T112943
CREATED:20260423T153322Z
LAST-MODIFIED:20260423T154550Z
UID:28208-1780272000-1788220799@ottawacancer.ca
SUMMARY:Lemonade Standemonium
DESCRIPTION:Lemonade Standemonium is a feel-good summer initiative from The Ottawa Cancer Foundation that brings kids\, families\, businesses\, and communities together in support of local cancer care. \nThroughout the summer\, participants set up their own lemonade stands across the city\, turning a simple idea into a meaningful way to give back. Every cup sold helps fund free programs and services for individuals and families affected by cancer in our community. \nIt’s easy to get involved. Gather your friends\, pick a date\, set up your stand\, and start raising funds while spreading awareness and positivity in your neighbourhood. \nWhether you’re hosting a stand\, supporting one\, or stopping by for a glass\, Lemonade Standemonium is a chance to come together\, have fun\, and make a real impact close to home. \nTo learn more or register your stand\, visit the Lemonade Standemonium website.
URL:https://ottawacancer.ca/event/lemonade-standemonium/
LOCATION:ON
ATTACH;FMTTYPE=image/png:https://ottawacancer.ca/wp-content/uploads/2026/04/Lemonade-Standemonium.png
END:VEVENT
END:VCALENDAR