BEGIN:VCALENDAR
VERSION:2.0
PRODID:-//ottawacancer.ca - ECPv6.15.20//NONSGML v1.0//EN
CALSCALE:GREGORIAN
METHOD:PUBLISH
X-ORIGINAL-URL:https://ottawacancer.ca
X-WR-CALDESC:Events for ottawacancer.ca
REFRESH-INTERVAL;VALUE=DURATION:PT1H
X-Robots-Tag:noindex
X-PUBLISHED-TTL:PT1H
BEGIN:VTIMEZONE
TZID:America/Toronto
BEGIN:DAYLIGHT
TZOFFSETFROM:-0500
TZOFFSETTO:-0400
TZNAME:EDT
DTSTART:20250309T070000
END:DAYLIGHT
BEGIN:STANDARD
TZOFFSETFROM:-0400
TZOFFSETTO:-0500
TZNAME:EST
DTSTART:20251102T060000
END:STANDARD
BEGIN:DAYLIGHT
TZOFFSETFROM:-0500
TZOFFSETTO:-0400
TZNAME:EDT
DTSTART:20260308T070000
END:DAYLIGHT
BEGIN:STANDARD
TZOFFSETFROM:-0400
TZOFFSETTO:-0500
TZNAME:EST
DTSTART:20261101T060000
END:STANDARD
BEGIN:DAYLIGHT
TZOFFSETFROM:-0500
TZOFFSETTO:-0400
TZNAME:EDT
DTSTART:20270314T070000
END:DAYLIGHT
BEGIN:STANDARD
TZOFFSETFROM:-0400
TZOFFSETTO:-0500
TZNAME:EST
DTSTART:20271107T060000
END:STANDARD
END:VTIMEZONE
BEGIN:VEVENT
DTSTART;VALUE=DATE:20260509
DTEND;VALUE=DATE:20260511
DTSTAMP:20260424T103241
CREATED:20260423T154452Z
LAST-MODIFIED:20260423T184432Z
UID:28212-1778284800-1778457599@ottawacancer.ca
SUMMARY:Lemonade Standemonium Launch at St.  Laurent Shopping Centre
DESCRIPTION:Kick off summer with something sweet! \nJoin us at St. Laurent Shopping Centre on May 9 and 10 as Lemonade Standemonium returns with a special launch event in support of the Ottawa Cancer Foundation. \nExperience the launch in action\, with lemonade stands set up throughout the mall and hosted by participating retailers. Stop by\, grab a drink\, and support a fun and meaningful initiative that helps fund free cancer support programs in our community. \nThis two-day event is a chance to see Lemonade Standemonium come to life\, connect with local businesses taking part\, and be part of a movement that brings people together for a great cause. \nWhether you’re visiting for a glass of lemonade or getting inspired to host your own stand this summer\, every visit helps make a difference. \nTo learn more or register your own stand\, visit the Lemonade Standemonium website.
URL:https://ottawacancer.ca/event/lemonade-standemonium-launch-at-st-laurent-shopping-centre/
LOCATION:St. Laurent Shopping Centre\, 1200 St. Laurent Blvd\, Ottawa\, ON\, K1K 3B8\, Canada
ATTACH;FMTTYPE=image/png:https://ottawacancer.ca/wp-content/uploads/2026/04/Sip-share-support-cancer-care.png
ORGANIZER;CN="The Ottawa Cancer Foundation":MAILTO:events@ottawacancer.ca
END:VEVENT
END:VCALENDAR